BEGIN:VCALENDAR
VERSION:2.0
PRODID:-//Urdhva Yoga - ECPv6.15.15//NONSGML v1.0//EN
CALSCALE:GREGORIAN
METHOD:PUBLISH
X-WR-CALNAME:Urdhva Yoga
X-ORIGINAL-URL:https://urdhvayoga.com
X-WR-CALDESC:Events for Urdhva Yoga
REFRESH-INTERVAL;VALUE=DURATION:PT1H
X-Robots-Tag:noindex
X-PUBLISHED-TTL:PT1H
BEGIN:VTIMEZONE
TZID:UTC
BEGIN:STANDARD
TZOFFSETFROM:+0000
TZOFFSETTO:+0000
TZNAME:UTC
DTSTART:20230101T000000
END:STANDARD
END:VTIMEZONE
BEGIN:VEVENT
DTSTART;VALUE=DATE:20240520
DTEND;VALUE=DATE:20240619
DTSTAMP:20260421T182421
CREATED:20240103T035556Z
LAST-MODIFIED:20240219T075647Z
UID:714-1716163200-1718755199@urdhvayoga.com
SUMMARY:RISE IN BALANCE: HATHA YOGA
DESCRIPTION:In four weeks\, a complete practice of Hatha Yoga to reset the body. Shat Kriyas for cleansing and detoxification\, asanas practice to strengthen the body and balance doshas and energy\, and Ayurvedic diet guidelines suited to your prakruti will start you off on a journey of holistic health.  \nMonday to Friday\n7:00 to 8:00 AM IST
URL:https://urdhvayoga.com/event/rise-in-balance-hatha-yoga-2/
LOCATION:Online Via Zoom
CATEGORIES:event
ATTACH;FMTTYPE=image/webp:https://urdhvayoga.com/wp-content/uploads/2024/01/Hatha.webp
ORGANIZER;CN="Urdhva Yoga":MAILTO:info@urdhvayoga.com
END:VEVENT
BEGIN:VEVENT
DTSTART;VALUE=DATE:20240210
DTEND;VALUE=DATE:20240219
DTSTAMP:20260421T182421
CREATED:20240129T101332Z
LAST-MODIFIED:20240219T075711Z
UID:3776-1707523200-1708300799@urdhvayoga.com
SUMMARY:AYURVEDA: THREE PILLARS OF HEALTH
DESCRIPTION:Three pillars of health called trayopastambha in Ayurveda constitute āhara (food)\, nidrā (sleep)\, and brahmacharya (control of sexual energy). Over four sessions\, we will look at understanding them and their effects on our health with exercises for self-examination. \nSaturday and Sunday\n1800 to 1900 IST
URL:https://urdhvayoga.com/event/ayurveda-three-pillars-of-health/
LOCATION:Online Via Zoom
CATEGORIES:event
ATTACH;FMTTYPE=image/webp:https://urdhvayoga.com/wp-content/uploads/2024/01/Ayurveda1.webp
ORGANIZER;CN="Urdhva Yoga":MAILTO:info@urdhvayoga.com
END:VEVENT
END:VCALENDAR