BEGIN:VCALENDAR
VERSION:2.0
PRODID:-//Urdhva Yoga - ECPv6.15.15//NONSGML v1.0//EN
CALSCALE:GREGORIAN
METHOD:PUBLISH
X-ORIGINAL-URL:https://urdhvayoga.com
X-WR-CALDESC:Events for Urdhva Yoga
REFRESH-INTERVAL;VALUE=DURATION:PT1H
X-Robots-Tag:noindex
X-PUBLISHED-TTL:PT1H
BEGIN:VTIMEZONE
TZID:UTC
BEGIN:STANDARD
TZOFFSETFROM:+0000
TZOFFSETTO:+0000
TZNAME:UTC
DTSTART:20230101T000000
END:STANDARD
END:VTIMEZONE
BEGIN:VEVENT
DTSTART;VALUE=DATE:20240518
DTEND;VALUE=DATE:20240519
DTSTAMP:20260421T081124
CREATED:20240129T101854Z
LAST-MODIFIED:20240130T130408Z
UID:3780-1715990400-1716076799@urdhvayoga.com
SUMMARY:THE MEDITATION HOUR
DESCRIPTION:The Meditation Hour every weekend will help you slow down and unwind the mind. In the stillness of meditation\, the mind is unwrinkled from the agitations and constant engagement in happenings around us. Suited for beginners and those leading busy and stressed lives. \nEvery Saturday and Sunday\n6:00 to 7:00 AM IST
URL:https://urdhvayoga.com/event/the-meditation-hour/
LOCATION:Online Via Zoom
CATEGORIES:event
ATTACH;FMTTYPE=image/webp:https://urdhvayoga.com/wp-content/uploads/2024/01/MeditationBanner-scaled.webp
ORGANIZER;CN="Urdhva Yoga":MAILTO:info@urdhvayoga.com
END:VEVENT
END:VCALENDAR